BEGIN:VCALENDAR
CALSCALE:GREGORIAN
VERSION:2.0
METHOD:PUBLISH
BEGIN:VEVENT
UID:6
DTSTAMP:20260423T091151Z
DTSTART:20260518T133000Z
DTEND:20260518T160000Z
SUMMARY:ABBL Conference — EU Digital Identity Wallet
DESCRIPTION:Monday 18 May 2026, 16:00 &ndash; 18:00Venue Spuerkeess 19, avenue de la Libert&eacute; L-1931 LuxembourgOrganised by Luxembourg Bankers&rsquo; Association (ABBL)About the eventThe EU Digital Identity Wallet is set to become a cornerstone of Europe&rsquo;s digital ecosystem, with significant implications for financial services.As the implementation of the revised EU Digital Identity Framework progresses, Member States are required to offer at least one Digital Identity Wallet to all citizens and residents by December 2026.This conference will provide a practical and forward-looking perspective on the latest developments at both European and national levels, as well as their impact on the banking sector.Key topicsParticipants will gain insights into:🔹 Developments related to Luxembourg&rsquo;s Digital Identity Wallet, with contributions from the Ministry for Digitalisation and CTIE 🔹 Key banking use cases and perspectives 🔹 Authentication methods and associated challenges 🔹 European consortium initiatives, including payments and additional use cases 🔹 Industry perspectives and practical implicationsSpeakersSpeakers will be announced shortly.Programme15:30 | Welcome &amp; registration16:00 | Conference session18:00 | NetworkingRegistrationParticipation is reserved for ABBL members.Registration is mandatory.Deadline: 4 May 2026ContactFor any questions regarding this event, please contact:ABBL Member Relations - member-relations@abbl.lu\n\nUrl : https://membernet.abbl.lu/en/detail/events/abbl-conference-eu-digital-identity-wallet/
X-ALT-DESC;FMTTYPE=text/html:<html><body><p class="tag-custom" data-end="431" data-start="411" id="isPasted">Monday 18 May 2026, 16:00 &ndash; 18:00</p><p data-end="504" data-start="433"><strong data-end="442" data-start="433">Venue</strong><br data-start="442" data-end="445"> Spuerkeess<br data-start="455" data-end="458"> 19, avenue de la Libert&eacute;<br data-start="482" data-end="485"> L-1931 Luxembourg</p><p data-end="565" data-start="506"><strong data-end="522" data-start="506">Organised by</strong><br data-start="522" data-end="525"> Luxembourg Bankers&rsquo; Association (ABBL)</p><h2 class="tag-custom" data-end="587" data-section-id="1rez6rh" data-start="567" id="isPasted">About the event</h2><p data-end="735" data-start="589">The EU Digital Identity Wallet is set to become a cornerstone of Europe&rsquo;s digital ecosystem, with significant implications for financial services.</p><p data-end="936" data-start="737">As the implementation of the revised EU Digital Identity Framework progresses, Member States are required to offer at least one Digital Identity Wallet to all citizens and residents by December 2026.</p><p data-end="1126" data-start="938">This conference will provide a <strong data-end="1014" data-start="969">practical and forward-looking perspective</strong> on the latest developments at both European and national levels, as well as their impact on the banking sector.</p><h2 data-end="1143" data-section-id="5dzqxs" data-start="1128">Key topics</h2><p data-end="1182" data-start="1145">Participants will gain insights into:</p><p data-end="1549" data-start="1184">🔹 Developments related to Luxembourg&rsquo;s Digital Identity Wallet, with contributions from the Ministry for Digitalisation and CTIE<br data-start="1313" data-end="1316"> 🔹 Key banking use cases and perspectives<br data-start="1357" data-end="1360"> 🔹 Authentication methods and associated challenges<br data-start="1411" data-end="1414"> 🔹 European consortium initiatives, including payments and additional use cases<br data-start="1493" data-end="1496"> 🔹 Industry perspectives and practical implications</p><h2 data-end="1564" data-section-id="4d4jjh" data-start="1551">Speakers</h2><p data-end="1603" data-start="1566">Speakers will be announced shortly.</p><h2 data-end="1619" data-section-id="1ghm5dl" data-start="1605">Programme</h2><p data-end="1657" data-start="1621"><strong data-end="1630" data-start="1621">15:30</strong> | Welcome &amp; registration</p><p data-end="1691" data-start="1659"><strong data-end="1668" data-start="1659">16:00</strong> | Conference session</p><p data-end="1717" data-start="1693"><strong data-end="1702" data-start="1693">18:00</strong> | Networking</p><h2 data-end="1736" data-section-id="a8ly7o" data-start="1719">Registration</h2><p data-end="1812" data-start="1738">Participation is reserved for ABBL members.<br data-start="1781" data-end="1784">Registration is mandatory.</p><p class="tag-custom" data-end="1873" data-start="1814" id="isPasted">Deadline: 4 May 2026</p><h2 data-end="1887" data-section-id="ryp9dx" data-start="1875">Contact</h2><p data-end="1970" data-start="1889">For any questions regarding this event, please contact:<br data-start="1944" data-end="1947">ABBL Member Relations - member-relations@abbl.lu</p><br><br>Url : https://membernet.abbl.lu/en/detail/events/abbl-conference-eu-digital-identity-wallet/</body></html>
LOCATION:Spuerkeess
END:VEVENT
END:VCALENDAR